BEGIN:VCALENDAR
VERSION:2.0
PRODID:-//Wighton Village Hall - ECPv6.15.20//NONSGML v1.0//EN
CALSCALE:GREGORIAN
METHOD:PUBLISH
X-WR-CALNAME:Wighton Village Hall
X-ORIGINAL-URL:https://wightonvillagehall.co.uk
X-WR-CALDESC:Events for Wighton Village Hall
REFRESH-INTERVAL;VALUE=DURATION:PT1H
X-Robots-Tag:noindex
X-PUBLISHED-TTL:PT1H
BEGIN:VTIMEZONE
TZID:Europe/London
BEGIN:DAYLIGHT
TZOFFSETFROM:+0000
TZOFFSETTO:+0100
TZNAME:BST
DTSTART:20250330T010000
END:DAYLIGHT
BEGIN:STANDARD
TZOFFSETFROM:+0100
TZOFFSETTO:+0000
TZNAME:GMT
DTSTART:20251026T010000
END:STANDARD
BEGIN:DAYLIGHT
TZOFFSETFROM:+0000
TZOFFSETTO:+0100
TZNAME:BST
DTSTART:20260329T010000
END:DAYLIGHT
BEGIN:STANDARD
TZOFFSETFROM:+0100
TZOFFSETTO:+0000
TZNAME:GMT
DTSTART:20261025T010000
END:STANDARD
BEGIN:DAYLIGHT
TZOFFSETFROM:+0000
TZOFFSETTO:+0100
TZNAME:BST
DTSTART:20270328T010000
END:DAYLIGHT
BEGIN:STANDARD
TZOFFSETFROM:+0100
TZOFFSETTO:+0000
TZNAME:GMT
DTSTART:20271031T010000
END:STANDARD
END:VTIMEZONE
BEGIN:VEVENT
DTSTART;TZID=Europe/London:20260324T190000
DTEND;TZID=Europe/London:20260324T213000
DTSTAMP:20260424T173250
CREATED:20260215T002650Z
LAST-MODIFIED:20260215T002655Z
UID:6021-1774378800-1774387800@wightonvillagehall.co.uk
SUMMARY:village games night
DESCRIPTION:carpet bowls or table tennis
URL:https://wightonvillagehall.co.uk/event/village-games-night-11/
END:VEVENT
BEGIN:VEVENT
DTSTART;TZID=Europe/London:20260324T150000
DTEND;TZID=Europe/London:20260324T190000
DTSTAMP:20260424T173250
CREATED:20260225T192455Z
LAST-MODIFIED:20260225T192501Z
UID:6091-1774364400-1774378800@wightonvillagehall.co.uk
SUMMARY:private hire (Piggott)
DESCRIPTION:
URL:https://wightonvillagehall.co.uk/event/private-hire-piggott/
END:VEVENT
END:VCALENDAR