BEGIN:VCALENDAR
VERSION:2.0
PRODID:-//Wighton Village Hall - ECPv6.15.20//NONSGML v1.0//EN
CALSCALE:GREGORIAN
METHOD:PUBLISH
X-ORIGINAL-URL:https://wightonvillagehall.co.uk
X-WR-CALDESC:Events for Wighton Village Hall
REFRESH-INTERVAL;VALUE=DURATION:PT1H
X-Robots-Tag:noindex
X-PUBLISHED-TTL:PT1H
BEGIN:VTIMEZONE
TZID:Europe/London
BEGIN:DAYLIGHT
TZOFFSETFROM:+0000
TZOFFSETTO:+0100
TZNAME:BST
DTSTART:20250330T010000
END:DAYLIGHT
BEGIN:STANDARD
TZOFFSETFROM:+0100
TZOFFSETTO:+0000
TZNAME:GMT
DTSTART:20251026T010000
END:STANDARD
BEGIN:DAYLIGHT
TZOFFSETFROM:+0000
TZOFFSETTO:+0100
TZNAME:BST
DTSTART:20260329T010000
END:DAYLIGHT
BEGIN:STANDARD
TZOFFSETFROM:+0100
TZOFFSETTO:+0000
TZNAME:GMT
DTSTART:20261025T010000
END:STANDARD
BEGIN:DAYLIGHT
TZOFFSETFROM:+0000
TZOFFSETTO:+0100
TZNAME:BST
DTSTART:20270328T010000
END:DAYLIGHT
BEGIN:STANDARD
TZOFFSETFROM:+0100
TZOFFSETTO:+0000
TZNAME:GMT
DTSTART:20271031T010000
END:STANDARD
BEGIN:DAYLIGHT
TZOFFSETFROM:+0000
TZOFFSETTO:+0100
TZNAME:BST
DTSTART:20280326T010000
END:DAYLIGHT
BEGIN:STANDARD
TZOFFSETFROM:+0100
TZOFFSETTO:+0000
TZNAME:GMT
DTSTART:20281029T010000
END:STANDARD
END:VTIMEZONE
BEGIN:VEVENT
DTSTART;TZID=Europe/London:20260620T120000
DTEND;TZID=Europe/London:20260620T233000
DTSTAMP:20260423T233701
CREATED:20260322T220809Z
LAST-MODIFIED:20260322T220812Z
UID:6274-1781956800-1781998200@wightonvillagehall.co.uk
SUMMARY:private hire (Freeman)
DESCRIPTION:All rooms
URL:https://wightonvillagehall.co.uk/event/private-hire-freeman/
END:VEVENT
BEGIN:VEVENT
DTSTART;TZID=Europe/London:20260703T173000
DTEND;TZID=Europe/London:20260703T213000
DTSTAMP:20260423T233701
CREATED:20260414T095432Z
LAST-MODIFIED:20260414T095435Z
UID:6397-1783099800-1783114200@wightonvillagehall.co.uk
SUMMARY:private hire (Benton)
DESCRIPTION:mediumship event \n\n\n\nAll rooms
URL:https://wightonvillagehall.co.uk/event/private-hire-benton/
END:VEVENT
BEGIN:VEVENT
DTSTART;TZID=Europe/London:20260704T180000
DTEND;TZID=Europe/London:20260704T220000
DTSTAMP:20260423T233701
CREATED:20260407T090353Z
LAST-MODIFIED:20260407T090356Z
UID:6344-1783188000-1783202400@wightonvillagehall.co.uk
SUMMARY:private Hire Brett-Reynolds)
DESCRIPTION:hall and kitchen plus bar
URL:https://wightonvillagehall.co.uk/event/private-hire-brett-reynolds/
END:VEVENT
BEGIN:VEVENT
DTSTART;TZID=Europe/London:20260724T190000
DTEND;TZID=Europe/London:20260724T220000
DTSTAMP:20260423T233701
CREATED:20260119T135339Z
LAST-MODIFIED:20260119T135343Z
UID:5813-1784919600-1784930400@wightonvillagehall.co.uk
SUMMARY:bingo night
DESCRIPTION:Fully licensed bar\, cash prizes\, first call 19:00 \n\n\n\n\n\n\n\n\n\n\n\n\n\nFully licensed bar\, cash prizes\, first call 19:39
URL:https://wightonvillagehall.co.uk/event/bingo-night-5/
END:VEVENT
BEGIN:VEVENT
DTSTART;TZID=Europe/London:20260725T150000
DTEND;TZID=Europe/London:20260726T200000
DTSTAMP:20260423T233701
CREATED:20260405T194115Z
LAST-MODIFIED:20260408T071810Z
UID:6335-1784991600-1785096000@wightonvillagehall.co.uk
SUMMARY:Christening Party (Pitcher)
DESCRIPTION:Hall and kitchen
URL:https://wightonvillagehall.co.uk/event/christening-party-pilcher/
END:VEVENT
BEGIN:VEVENT
DTSTART;TZID=Europe/London:20260829T100000
DTEND;TZID=Europe/London:20260829T170000
DTSTAMP:20260423T233701
CREATED:20260125T003245Z
LAST-MODIFIED:20260125T003250Z
UID:5859-1787997600-1788022800@wightonvillagehall.co.uk
SUMMARY:private Hire (Fox)
DESCRIPTION:
URL:https://wightonvillagehall.co.uk/event/private-hire-fox/
END:VEVENT
BEGIN:VEVENT
DTSTART;TZID=Europe/London:20260911T120000
DTEND;TZID=Europe/London:20260912T230000
DTSTAMP:20260423T233701
CREATED:20250930T221142Z
LAST-MODIFIED:20250930T221145Z
UID:4853-1789128000-1789254000@wightonvillagehall.co.uk
SUMMARY:wedding (Sampson)
DESCRIPTION:all building
URL:https://wightonvillagehall.co.uk/event/wedding-sampson/
END:VEVENT
BEGIN:VEVENT
DTSTART;TZID=Europe/London:20260918T190000
DTEND;TZID=Europe/London:20260918T220000
DTSTAMP:20260423T233701
CREATED:20260119T135541Z
LAST-MODIFIED:20260119T135545Z
UID:5815-1789758000-1789768800@wightonvillagehall.co.uk
SUMMARY:Bingo Night
DESCRIPTION:Fully licensed bar\, cash prizes\, first call 19:30
URL:https://wightonvillagehall.co.uk/event/bingo-night-6/
END:VEVENT
BEGIN:VEVENT
DTSTART;TZID=Europe/London:20260925T170000
DTEND;TZID=Europe/London:20260927T120000
DTSTAMP:20260423T233701
CREATED:20260212T193124Z
LAST-MODIFIED:20260212T193129Z
UID:5966-1790355600-1790510400@wightonvillagehall.co.uk
SUMMARY:private hire (Stewart)
DESCRIPTION:Hall and Kitchen
URL:https://wightonvillagehall.co.uk/event/private-hire-stewart/
END:VEVENT
BEGIN:VEVENT
DTSTART;TZID=Europe/London:20261120T190000
DTEND;TZID=Europe/London:20261120T220000
DTSTAMP:20260423T233701
CREATED:20260119T135818Z
LAST-MODIFIED:20260119T135822Z
UID:5817-1795201200-1795212000@wightonvillagehall.co.uk
SUMMARY:Bingo night
DESCRIPTION:Fully licensed bar\, cash prizes\, first call 19:30
URL:https://wightonvillagehall.co.uk/event/bingo-night-7/
END:VEVENT
BEGIN:VEVENT
DTSTART;TZID=Europe/London:20270325T170000
DTEND;TZID=Europe/London:20270326T093000
DTSTAMP:20260423T233701
CREATED:20260407T091219Z
LAST-MODIFIED:20260407T091221Z
UID:6347-1805994000-1806053400@wightonvillagehall.co.uk
SUMMARY:pilgrim group overnight
DESCRIPTION:
URL:https://wightonvillagehall.co.uk/event/pilgrim-group-overnight/
END:VEVENT
END:VCALENDAR