BEGIN:VCALENDAR
VERSION:2.0
PRODID:-//Wighton Village Hall - ECPv6.15.20//NONSGML v1.0//EN
CALSCALE:GREGORIAN
METHOD:PUBLISH
X-WR-CALNAME:Wighton Village Hall
X-ORIGINAL-URL:https://wightonvillagehall.co.uk
X-WR-CALDESC:Events for Wighton Village Hall
REFRESH-INTERVAL;VALUE=DURATION:PT1H
X-Robots-Tag:noindex
X-PUBLISHED-TTL:PT1H
BEGIN:VTIMEZONE
TZID:Europe/London
BEGIN:DAYLIGHT
TZOFFSETFROM:+0000
TZOFFSETTO:+0100
TZNAME:BST
DTSTART:20250330T010000
END:DAYLIGHT
BEGIN:STANDARD
TZOFFSETFROM:+0100
TZOFFSETTO:+0000
TZNAME:GMT
DTSTART:20251026T010000
END:STANDARD
BEGIN:DAYLIGHT
TZOFFSETFROM:+0000
TZOFFSETTO:+0100
TZNAME:BST
DTSTART:20260329T010000
END:DAYLIGHT
BEGIN:STANDARD
TZOFFSETFROM:+0100
TZOFFSETTO:+0000
TZNAME:GMT
DTSTART:20261025T010000
END:STANDARD
BEGIN:DAYLIGHT
TZOFFSETFROM:+0000
TZOFFSETTO:+0100
TZNAME:BST
DTSTART:20270328T010000
END:DAYLIGHT
BEGIN:STANDARD
TZOFFSETFROM:+0100
TZOFFSETTO:+0000
TZNAME:GMT
DTSTART:20271031T010000
END:STANDARD
BEGIN:DAYLIGHT
TZOFFSETFROM:+0000
TZOFFSETTO:+0100
TZNAME:BST
DTSTART:20280326T010000
END:DAYLIGHT
BEGIN:STANDARD
TZOFFSETFROM:+0100
TZOFFSETTO:+0000
TZNAME:GMT
DTSTART:20281029T010000
END:STANDARD
END:VTIMEZONE
BEGIN:VEVENT
DTSTART;TZID=Europe/London:20260521T160000
DTEND;TZID=Europe/London:20260521T180000
DTSTAMP:20260423T233302
CREATED:20260416T091657Z
LAST-MODIFIED:20260416T091700Z
UID:6440-1779379200-1779386400@wightonvillagehall.co.uk
SUMMARY:pickleball
DESCRIPTION:
URL:https://wightonvillagehall.co.uk/event/pickleball-11/
END:VEVENT
BEGIN:VEVENT
DTSTART;TZID=Europe/London:20260522T090000
DTEND;TZID=Europe/London:20260525T180000
DTSTAMP:20260423T233302
CREATED:20251017T185750Z
LAST-MODIFIED:20260308T124955Z
UID:4924-1779440400-1779732000@wightonvillagehall.co.uk
SUMMARY:scarecrow festival
DESCRIPTION:
URL:https://wightonvillagehall.co.uk/event/scarecrow-festival/
END:VEVENT
BEGIN:VEVENT
DTSTART;TZID=Europe/London:20260522T190000
DTEND;TZID=Europe/London:20260522T220000
DTSTAMP:20260423T233302
CREATED:20260119T133023Z
LAST-MODIFIED:20260119T133027Z
UID:5811-1779476400-1779487200@wightonvillagehall.co.uk
SUMMARY:bingo Night
DESCRIPTION:Fully licensed bar. First call 19:30
URL:https://wightonvillagehall.co.uk/event/bingo-night-4/
END:VEVENT
BEGIN:VEVENT
DTSTART;TZID=Europe/London:20260526T100000
DTEND;TZID=Europe/London:20260526T110000
DTSTAMP:20260423T233302
CREATED:20260416T084918Z
LAST-MODIFIED:20260416T084921Z
UID:6416-1779789600-1779793200@wightonvillagehall.co.uk
SUMMARY:Fitness Pilates
DESCRIPTION:Book via www.plattenfitness.com
URL:https://wightonvillagehall.co.uk/event/fitness-pilates-6/
END:VEVENT
BEGIN:VEVENT
DTSTART;TZID=Europe/London:20260526T160000
DTEND;TZID=Europe/London:20260526T180000
DTSTAMP:20260423T233302
CREATED:20260416T091354Z
LAST-MODIFIED:20260416T091356Z
UID:6436-1779811200-1779818400@wightonvillagehall.co.uk
SUMMARY:Pickleball
DESCRIPTION:
URL:https://wightonvillagehall.co.uk/event/pickleball-7/
END:VEVENT
BEGIN:VEVENT
DTSTART;TZID=Europe/London:20260526T190000
DTEND;TZID=Europe/London:20260526T213000
DTSTAMP:20260423T233302
CREATED:20260416T090619Z
LAST-MODIFIED:20260416T090622Z
UID:6428-1779822000-1779831000@wightonvillagehall.co.uk
SUMMARY:village games night
DESCRIPTION:Carpet bowls
URL:https://wightonvillagehall.co.uk/event/village-games-night-9/
END:VEVENT
BEGIN:VEVENT
DTSTART;TZID=Europe/London:20260527T093000
DTEND;TZID=Europe/London:20260527T103000
DTSTAMP:20260423T233302
CREATED:20260421T180322Z
LAST-MODIFIED:20260421T180325Z
UID:6493-1779874200-1779877800@wightonvillagehall.co.uk
SUMMARY:paracise class
DESCRIPTION:book vía www.emersonfitness.com
URL:https://wightonvillagehall.co.uk/event/paracise-class-7/
END:VEVENT
BEGIN:VEVENT
DTSTART;TZID=Europe/London:20260527T110000
DTEND;TZID=Europe/London:20260527T140000
DTSTAMP:20260423T233302
CREATED:20260416T085829Z
LAST-MODIFIED:20260416T085831Z
UID:6420-1779879600-1779890400@wightonvillagehall.co.uk
SUMMARY:community cafe lunch
DESCRIPTION:Coffee/cakes from 11:00\, hot lunches from noon \n\n\n\nBook via Sharon on 07827 603415
URL:https://wightonvillagehall.co.uk/event/community-cafe-lunch-3/
END:VEVENT
BEGIN:VEVENT
DTSTART;TZID=Europe/London:20260528T134500
DTEND;TZID=Europe/London:20260528T144500
DTSTAMP:20260423T233302
CREATED:20260421T180903Z
LAST-MODIFIED:20260421T180906Z
UID:6497-1779975900-1779979500@wightonvillagehall.co.uk
SUMMARY:tai chi class
DESCRIPTION:book vía www.emersonfitness.com
URL:https://wightonvillagehall.co.uk/event/tai-chi-class-6/
END:VEVENT
BEGIN:VEVENT
DTSTART;TZID=Europe/London:20260528T160000
DTEND;TZID=Europe/London:20260528T180000
DTSTAMP:20260423T233302
CREATED:20260416T091844Z
LAST-MODIFIED:20260416T091846Z
UID:6442-1779984000-1779991200@wightonvillagehall.co.uk
SUMMARY:Pickleball
DESCRIPTION:
URL:https://wightonvillagehall.co.uk/event/pickleball-14/
END:VEVENT
BEGIN:VEVENT
DTSTART;TZID=Europe/London:20260529T093000
DTEND;TZID=Europe/London:20260529T163000
DTSTAMP:20260423T233302
CREATED:20260211T191438Z
LAST-MODIFIED:20260211T191443Z
UID:5957-1780047000-1780072200@wightonvillagehall.co.uk
SUMMARY:Cambridgeshire Coins
DESCRIPTION:Hall and Kitchen
URL:https://wightonvillagehall.co.uk/event/cambridgeshire-coins/
END:VEVENT
BEGIN:VEVENT
DTSTART;TZID=Europe/London:20260530T100000
DTEND;TZID=Europe/London:20260530T120000
DTSTAMP:20260423T233302
CREATED:20260416T092526Z
LAST-MODIFIED:20260416T092528Z
UID:6450-1780135200-1780142400@wightonvillagehall.co.uk
SUMMARY:pickleball
DESCRIPTION:
URL:https://wightonvillagehall.co.uk/event/pickleball-22/
END:VEVENT
BEGIN:VEVENT
DTSTART;TZID=Europe/London:20260620T120000
DTEND;TZID=Europe/London:20260620T233000
DTSTAMP:20260423T233302
CREATED:20260322T220809Z
LAST-MODIFIED:20260322T220812Z
UID:6274-1781956800-1781998200@wightonvillagehall.co.uk
SUMMARY:private hire (Freeman)
DESCRIPTION:All rooms
URL:https://wightonvillagehall.co.uk/event/private-hire-freeman/
END:VEVENT
BEGIN:VEVENT
DTSTART;TZID=Europe/London:20260703T173000
DTEND;TZID=Europe/London:20260703T213000
DTSTAMP:20260423T233302
CREATED:20260414T095432Z
LAST-MODIFIED:20260414T095435Z
UID:6397-1783099800-1783114200@wightonvillagehall.co.uk
SUMMARY:private hire (Benton)
DESCRIPTION:mediumship event \n\n\n\nAll rooms
URL:https://wightonvillagehall.co.uk/event/private-hire-benton/
END:VEVENT
BEGIN:VEVENT
DTSTART;TZID=Europe/London:20260704T180000
DTEND;TZID=Europe/London:20260704T220000
DTSTAMP:20260423T233302
CREATED:20260407T090353Z
LAST-MODIFIED:20260407T090356Z
UID:6344-1783188000-1783202400@wightonvillagehall.co.uk
SUMMARY:private Hire Brett-Reynolds)
DESCRIPTION:hall and kitchen plus bar
URL:https://wightonvillagehall.co.uk/event/private-hire-brett-reynolds/
END:VEVENT
BEGIN:VEVENT
DTSTART;TZID=Europe/London:20260724T190000
DTEND;TZID=Europe/London:20260724T220000
DTSTAMP:20260423T233302
CREATED:20260119T135339Z
LAST-MODIFIED:20260119T135343Z
UID:5813-1784919600-1784930400@wightonvillagehall.co.uk
SUMMARY:bingo night
DESCRIPTION:Fully licensed bar\, cash prizes\, first call 19:00 \n\n\n\n\n\n\n\n\n\n\n\n\n\nFully licensed bar\, cash prizes\, first call 19:39
URL:https://wightonvillagehall.co.uk/event/bingo-night-5/
END:VEVENT
BEGIN:VEVENT
DTSTART;TZID=Europe/London:20260725T150000
DTEND;TZID=Europe/London:20260726T200000
DTSTAMP:20260423T233302
CREATED:20260405T194115Z
LAST-MODIFIED:20260408T071810Z
UID:6335-1784991600-1785096000@wightonvillagehall.co.uk
SUMMARY:Christening Party (Pitcher)
DESCRIPTION:Hall and kitchen
URL:https://wightonvillagehall.co.uk/event/christening-party-pilcher/
END:VEVENT
BEGIN:VEVENT
DTSTART;TZID=Europe/London:20260829T100000
DTEND;TZID=Europe/London:20260829T170000
DTSTAMP:20260423T233302
CREATED:20260125T003245Z
LAST-MODIFIED:20260125T003250Z
UID:5859-1787997600-1788022800@wightonvillagehall.co.uk
SUMMARY:private Hire (Fox)
DESCRIPTION:
URL:https://wightonvillagehall.co.uk/event/private-hire-fox/
END:VEVENT
BEGIN:VEVENT
DTSTART;TZID=Europe/London:20260911T120000
DTEND;TZID=Europe/London:20260912T230000
DTSTAMP:20260423T233302
CREATED:20250930T221142Z
LAST-MODIFIED:20250930T221145Z
UID:4853-1789128000-1789254000@wightonvillagehall.co.uk
SUMMARY:wedding (Sampson)
DESCRIPTION:all building
URL:https://wightonvillagehall.co.uk/event/wedding-sampson/
END:VEVENT
BEGIN:VEVENT
DTSTART;TZID=Europe/London:20260918T190000
DTEND;TZID=Europe/London:20260918T220000
DTSTAMP:20260423T233302
CREATED:20260119T135541Z
LAST-MODIFIED:20260119T135545Z
UID:5815-1789758000-1789768800@wightonvillagehall.co.uk
SUMMARY:Bingo Night
DESCRIPTION:Fully licensed bar\, cash prizes\, first call 19:30
URL:https://wightonvillagehall.co.uk/event/bingo-night-6/
END:VEVENT
BEGIN:VEVENT
DTSTART;TZID=Europe/London:20260925T170000
DTEND;TZID=Europe/London:20260927T120000
DTSTAMP:20260423T233302
CREATED:20260212T193124Z
LAST-MODIFIED:20260212T193129Z
UID:5966-1790355600-1790510400@wightonvillagehall.co.uk
SUMMARY:private hire (Stewart)
DESCRIPTION:Hall and Kitchen
URL:https://wightonvillagehall.co.uk/event/private-hire-stewart/
END:VEVENT
BEGIN:VEVENT
DTSTART;TZID=Europe/London:20261120T190000
DTEND;TZID=Europe/London:20261120T220000
DTSTAMP:20260423T233302
CREATED:20260119T135818Z
LAST-MODIFIED:20260119T135822Z
UID:5817-1795201200-1795212000@wightonvillagehall.co.uk
SUMMARY:Bingo night
DESCRIPTION:Fully licensed bar\, cash prizes\, first call 19:30
URL:https://wightonvillagehall.co.uk/event/bingo-night-7/
END:VEVENT
BEGIN:VEVENT
DTSTART;TZID=Europe/London:20270325T170000
DTEND;TZID=Europe/London:20270326T093000
DTSTAMP:20260423T233302
CREATED:20260407T091219Z
LAST-MODIFIED:20260407T091221Z
UID:6347-1805994000-1806053400@wightonvillagehall.co.uk
SUMMARY:pilgrim group overnight
DESCRIPTION:
URL:https://wightonvillagehall.co.uk/event/pilgrim-group-overnight/
END:VEVENT
END:VCALENDAR