BEGIN:VCALENDAR
VERSION:2.0
PRODID:-//Wighton Village Hall - ECPv6.15.20//NONSGML v1.0//EN
CALSCALE:GREGORIAN
METHOD:PUBLISH
X-WR-CALNAME:Wighton Village Hall
X-ORIGINAL-URL:https://wightonvillagehall.co.uk
X-WR-CALDESC:Events for Wighton Village Hall
REFRESH-INTERVAL;VALUE=DURATION:PT1H
X-Robots-Tag:noindex
X-PUBLISHED-TTL:PT1H
BEGIN:VTIMEZONE
TZID:Europe/London
BEGIN:DAYLIGHT
TZOFFSETFROM:+0000
TZOFFSETTO:+0100
TZNAME:BST
DTSTART:20250330T010000
END:DAYLIGHT
BEGIN:STANDARD
TZOFFSETFROM:+0100
TZOFFSETTO:+0000
TZNAME:GMT
DTSTART:20251026T010000
END:STANDARD
BEGIN:DAYLIGHT
TZOFFSETFROM:+0000
TZOFFSETTO:+0100
TZNAME:BST
DTSTART:20260329T010000
END:DAYLIGHT
BEGIN:STANDARD
TZOFFSETFROM:+0100
TZOFFSETTO:+0000
TZNAME:GMT
DTSTART:20261025T010000
END:STANDARD
BEGIN:DAYLIGHT
TZOFFSETFROM:+0000
TZOFFSETTO:+0100
TZNAME:BST
DTSTART:20270328T010000
END:DAYLIGHT
BEGIN:STANDARD
TZOFFSETFROM:+0100
TZOFFSETTO:+0000
TZNAME:GMT
DTSTART:20271031T010000
END:STANDARD
END:VTIMEZONE
BEGIN:VEVENT
DTSTART;TZID=Europe/London:20260405T130000
DTEND;TZID=Europe/London:20260405T170000
DTSTAMP:20260424T011539
CREATED:20260306T120440Z
LAST-MODIFIED:20260326T111318Z
UID:6130-1775394000-1775408400@wightonvillagehall.co.uk
SUMMARY:private Hire (Codman)
DESCRIPTION:Birthday party
URL:https://wightonvillagehall.co.uk/event/private-hire-codman/
END:VEVENT
BEGIN:VEVENT
DTSTART;TZID=Europe/London:20260404T160000
DTEND;TZID=Europe/London:20260404T233000
DTSTAMP:20260424T011539
CREATED:20251119T200227Z
LAST-MODIFIED:20251119T200230Z
UID:5214-1775318400-1775345400@wightonvillagehall.co.uk
SUMMARY:private hire (Cole)
DESCRIPTION:Hall and Kitchen
URL:https://wightonvillagehall.co.uk/event/private-hire-cole/
END:VEVENT
BEGIN:VEVENT
DTSTART;TZID=Europe/London:20260404T100000
DTEND;TZID=Europe/London:20260404T120000
DTSTAMP:20260424T011539
CREATED:20260306T120946Z
LAST-MODIFIED:20260306T120951Z
UID:6132-1775296800-1775304000@wightonvillagehall.co.uk
SUMMARY:Pickleball
DESCRIPTION:£3 per player
URL:https://wightonvillagehall.co.uk/event/pickleball-2/
END:VEVENT
BEGIN:VEVENT
DTSTART;TZID=Europe/London:20260403T110000
DTEND;TZID=Europe/London:20260403T130000
DTSTAMP:20260424T011539
CREATED:20260313T214045Z
LAST-MODIFIED:20260313T214051Z
UID:6234-1775214000-1775221200@wightonvillagehall.co.uk
SUMMARY:wells leg pilgrim’s lunch stop
DESCRIPTION:main hall
URL:https://wightonvillagehall.co.uk/event/wells-leg-pilgrims-lunch-stop-2/
END:VEVENT
BEGIN:VEVENT
DTSTART;TZID=Europe/London:20260402T170000
DTEND;TZID=Europe/London:20260403T090000
DTSTAMP:20260424T011539
CREATED:20251023T160755Z
LAST-MODIFIED:20260307T085350Z
UID:4968-1775149200-1775206800@wightonvillagehall.co.uk
SUMMARY:pilgrims staying overnight
DESCRIPTION:All rooms
URL:https://wightonvillagehall.co.uk/event/pilgrims-staying-overnight/
END:VEVENT
BEGIN:VEVENT
DTSTART;TZID=Europe/London:20260402T121500
DTEND;TZID=Europe/London:20260402T131500
DTSTAMP:20260424T011539
CREATED:20260313T213853Z
LAST-MODIFIED:20260313T213858Z
UID:6232-1775132100-1775135700@wightonvillagehall.co.uk
SUMMARY:wells leg pilgrims Lunch stop
DESCRIPTION:Main hall
URL:https://wightonvillagehall.co.uk/event/wells-leg-pilgrims-lunch-stop/
END:VEVENT
BEGIN:VEVENT
DTSTART;TZID=Europe/London:20260401T110000
DTEND;TZID=Europe/London:20260401T140000
DTSTAMP:20260424T011539
CREATED:20260306T125120Z
LAST-MODIFIED:20260306T125125Z
UID:6170-1775041200-1775052000@wightonvillagehall.co.uk
SUMMARY:Community Cafe lunch
DESCRIPTION:Coffee/tea and cakes from 11:30\, hot lunches from 12 noon \n\n\n\nPlease book in with Sharon on 07827603415
URL:https://wightonvillagehall.co.uk/event/community-cafe-lunch-2/
END:VEVENT
BEGIN:VEVENT
DTSTART;TZID=Europe/London:20260331T190000
DTEND;TZID=Europe/London:20260331T213000
DTSTAMP:20260424T011539
CREATED:20260215T002829Z
LAST-MODIFIED:20260215T002834Z
UID:6023-1774983600-1774992600@wightonvillagehall.co.uk
SUMMARY:village games night
DESCRIPTION:carpet bowls or table tennis
URL:https://wightonvillagehall.co.uk/event/village-games-night-12/
END:VEVENT
BEGIN:VEVENT
DTSTART;TZID=Europe/London:20260331T160000
DTEND;TZID=Europe/London:20260331T180000
DTSTAMP:20260424T011539
CREATED:20260215T003713Z
LAST-MODIFIED:20260215T003717Z
UID:6033-1774972800-1774980000@wightonvillagehall.co.uk
SUMMARY:pickleball
DESCRIPTION:
URL:https://wightonvillagehall.co.uk/event/pickleball-13/
END:VEVENT
BEGIN:VEVENT
DTSTART;TZID=Europe/London:20260331T100000
DTEND;TZID=Europe/London:20260331T110000
DTSTAMP:20260424T011539
CREATED:20260214T234943Z
LAST-MODIFIED:20260214T235102Z
UID:5994-1774951200-1774954800@wightonvillagehall.co.uk
SUMMARY:fitness pilates
DESCRIPTION:Book via www.plattenfitness.com
URL:https://wightonvillagehall.co.uk/event/fitness-pilates-11/
END:VEVENT
BEGIN:VEVENT
DTSTART;TZID=Europe/London:20260330T100000
DTEND;TZID=Europe/London:20260330T110000
DTSTAMP:20260424T011539
CREATED:20260214T234033Z
LAST-MODIFIED:20260214T235242Z
UID:5984-1774864800-1774868400@wightonvillagehall.co.uk
SUMMARY:yoga class
DESCRIPTION:Bookvia www.wildlynurtured.com
URL:https://wightonvillagehall.co.uk/event/yoga-class-8/
END:VEVENT
BEGIN:VEVENT
DTSTART;TZID=Europe/London:20260328T123000
DTEND;TZID=Europe/London:20260328T220000
DTSTAMP:20260424T011539
CREATED:20250912T211201Z
LAST-MODIFIED:20250912T211204Z
UID:4714-1774701000-1774735200@wightonvillagehall.co.uk
SUMMARY:private hire (G.Savory)
DESCRIPTION:hall and kitchen
URL:https://wightonvillagehall.co.uk/event/private-hire-g-savory/
END:VEVENT
BEGIN:VEVENT
DTSTART;TZID=Europe/London:20260328T100000
DTEND;TZID=Europe/London:20260328T120000
DTSTAMP:20260424T011539
CREATED:20260215T022652Z
LAST-MODIFIED:20260215T022658Z
UID:6049-1774692000-1774699200@wightonvillagehall.co.uk
SUMMARY:pickleball
DESCRIPTION:
URL:https://wightonvillagehall.co.uk/event/pickleball-31/
END:VEVENT
BEGIN:VEVENT
DTSTART;TZID=Europe/London:20260326T160000
DTEND;TZID=Europe/London:20260326T180000
DTSTAMP:20260424T011539
CREATED:20260215T021913Z
LAST-MODIFIED:20260215T021918Z
UID:6041-1774540800-1774548000@wightonvillagehall.co.uk
SUMMARY:pickleball
DESCRIPTION:
URL:https://wightonvillagehall.co.uk/event/pickleball-21/
END:VEVENT
BEGIN:VEVENT
DTSTART;TZID=Europe/London:20260326T134500
DTEND;TZID=Europe/London:20260326T144500
DTSTAMP:20260424T011539
CREATED:20260215T001508Z
LAST-MODIFIED:20260215T001513Z
UID:6013-1774532700-1774536300@wightonvillagehall.co.uk
SUMMARY:tai chi class
DESCRIPTION:details from www.emersonfitness.com
URL:https://wightonvillagehall.co.uk/event/tai-chi-class-8/
END:VEVENT
BEGIN:VEVENT
DTSTART;TZID=Europe/London:20260325T093000
DTEND;TZID=Europe/London:20260325T103000
DTSTAMP:20260424T011539
CREATED:20260215T000413Z
LAST-MODIFIED:20260328T112116Z
UID:6004-1774431000-1774434600@wightonvillagehall.co.uk
SUMMARY:paracise class
DESCRIPTION:Book via Amy on 07769110532
URL:https://wightonvillagehall.co.uk/event/paracise-class-8/
END:VEVENT
BEGIN:VEVENT
DTSTART;TZID=Europe/London:20260324T190000
DTEND;TZID=Europe/London:20260324T213000
DTSTAMP:20260424T011539
CREATED:20260215T002650Z
LAST-MODIFIED:20260215T002655Z
UID:6021-1774378800-1774387800@wightonvillagehall.co.uk
SUMMARY:village games night
DESCRIPTION:carpet bowls or table tennis
URL:https://wightonvillagehall.co.uk/event/village-games-night-11/
END:VEVENT
BEGIN:VEVENT
DTSTART;TZID=Europe/London:20260324T150000
DTEND;TZID=Europe/London:20260324T190000
DTSTAMP:20260424T011539
CREATED:20260225T192455Z
LAST-MODIFIED:20260225T192501Z
UID:6091-1774364400-1774378800@wightonvillagehall.co.uk
SUMMARY:private hire (Piggott)
DESCRIPTION:
URL:https://wightonvillagehall.co.uk/event/private-hire-piggott/
END:VEVENT
BEGIN:VEVENT
DTSTART;TZID=Europe/London:20260324T100000
DTEND;TZID=Europe/London:20260324T110000
DTSTAMP:20260424T011539
CREATED:20260214T234801Z
LAST-MODIFIED:20260214T234806Z
UID:5992-1774346400-1774350000@wightonvillagehall.co.uk
SUMMARY:fitness pilates
DESCRIPTION:Book via www.plattenfitness.com
URL:https://wightonvillagehall.co.uk/event/fitness-pilates-10/
END:VEVENT
BEGIN:VEVENT
DTSTART;TZID=Europe/London:20260323T150000
DTEND;TZID=Europe/London:20260323T170000
DTSTAMP:20260424T011539
CREATED:20260303T080836Z
LAST-MODIFIED:20260303T080841Z
UID:6123-1774278000-1774285200@wightonvillagehall.co.uk
SUMMARY:energy group meeting
DESCRIPTION:Meeting Room
URL:https://wightonvillagehall.co.uk/event/energy-group-meeting/
END:VEVENT
END:VCALENDAR