BEGIN:VCALENDAR
VERSION:2.0
PRODID:-//Wighton Village Hall - ECPv6.15.20//NONSGML v1.0//EN
CALSCALE:GREGORIAN
METHOD:PUBLISH
X-WR-CALNAME:Wighton Village Hall
X-ORIGINAL-URL:https://wightonvillagehall.co.uk
X-WR-CALDESC:Events for Wighton Village Hall
REFRESH-INTERVAL;VALUE=DURATION:PT1H
X-Robots-Tag:noindex
X-PUBLISHED-TTL:PT1H
BEGIN:VTIMEZONE
TZID:Europe/London
BEGIN:DAYLIGHT
TZOFFSETFROM:+0000
TZOFFSETTO:+0100
TZNAME:BST
DTSTART:20250330T010000
END:DAYLIGHT
BEGIN:STANDARD
TZOFFSETFROM:+0100
TZOFFSETTO:+0000
TZNAME:GMT
DTSTART:20251026T010000
END:STANDARD
BEGIN:DAYLIGHT
TZOFFSETFROM:+0000
TZOFFSETTO:+0100
TZNAME:BST
DTSTART:20260329T010000
END:DAYLIGHT
BEGIN:STANDARD
TZOFFSETFROM:+0100
TZOFFSETTO:+0000
TZNAME:GMT
DTSTART:20261025T010000
END:STANDARD
BEGIN:DAYLIGHT
TZOFFSETFROM:+0000
TZOFFSETTO:+0100
TZNAME:BST
DTSTART:20270328T010000
END:DAYLIGHT
BEGIN:STANDARD
TZOFFSETFROM:+0100
TZOFFSETTO:+0000
TZNAME:GMT
DTSTART:20271031T010000
END:STANDARD
END:VTIMEZONE
BEGIN:VEVENT
DTSTART;TZID=Europe/London:20260423T160000
DTEND;TZID=Europe/London:20260423T180000
DTSTAMP:20260423T151125
CREATED:20260306T122045Z
LAST-MODIFIED:20260306T122050Z
UID:6146-1776960000-1776967200@wightonvillagehall.co.uk
SUMMARY:pickleball
DESCRIPTION:£3 per player
URL:https://wightonvillagehall.co.uk/event/pickleball-19/
END:VEVENT
BEGIN:VEVENT
DTSTART;TZID=Europe/London:20260425T100000
DTEND;TZID=Europe/London:20260425T120000
DTSTAMP:20260423T151125
CREATED:20260306T121441Z
LAST-MODIFIED:20260306T121448Z
UID:6138-1777111200-1777118400@wightonvillagehall.co.uk
SUMMARY:Pickleball
DESCRIPTION:£3 per player
URL:https://wightonvillagehall.co.uk/event/pickleball-10/
END:VEVENT
BEGIN:VEVENT
DTSTART;TZID=Europe/London:20260425T143000
DTEND;TZID=Europe/London:20260425T230000
DTSTAMP:20260423T151125
CREATED:20260422T160221Z
LAST-MODIFIED:20260422T160224Z
UID:6508-1777127400-1777158000@wightonvillagehall.co.uk
SUMMARY:private hire (Jaison)
DESCRIPTION:hall and kitchen
URL:https://wightonvillagehall.co.uk/event/private-hire-jaison/
END:VEVENT
BEGIN:VEVENT
DTSTART;TZID=Europe/London:20260427T100000
DTEND;TZID=Europe/London:20260427T110000
DTSTAMP:20260423T151125
CREATED:20260306T173912Z
LAST-MODIFIED:20260306T174016Z
UID:6181-1777284000-1777287600@wightonvillagehall.co.uk
SUMMARY:Yoga Class
DESCRIPTION:Book via www.wildlynurtured.com
URL:https://wightonvillagehall.co.uk/event/yoga-class-4/
END:VEVENT
BEGIN:VEVENT
DTSTART;TZID=Europe/London:20260427T173000
DTEND;TZID=Europe/London:20260427T193000
DTSTAMP:20260423T151125
CREATED:20260422T160359Z
LAST-MODIFIED:20260422T160403Z
UID:6510-1777311000-1777318200@wightonvillagehall.co.uk
SUMMARY:private hire (Hiner)
DESCRIPTION:
URL:https://wightonvillagehall.co.uk/event/private-hire-hiner/
END:VEVENT
BEGIN:VEVENT
DTSTART;TZID=Europe/London:20260428T100000
DTEND;TZID=Europe/London:20260428T110000
DTSTAMP:20260423T151125
CREATED:20260306T174724Z
LAST-MODIFIED:20260306T174730Z
UID:6188-1777370400-1777374000@wightonvillagehall.co.uk
SUMMARY:Fitness pilates
DESCRIPTION:Book via www.plattenfitness.com
URL:https://wightonvillagehall.co.uk/event/fitness-pilates-9/
END:VEVENT
BEGIN:VEVENT
DTSTART;TZID=Europe/London:20260428T160000
DTEND;TZID=Europe/London:20260428T180000
DTSTAMP:20260423T151125
CREATED:20260306T123028Z
LAST-MODIFIED:20260306T123033Z
UID:6157-1777392000-1777399200@wightonvillagehall.co.uk
SUMMARY:pickleball
DESCRIPTION:£3 per player
URL:https://wightonvillagehall.co.uk/event/pickleball-32/
END:VEVENT
BEGIN:VEVENT
DTSTART;TZID=Europe/London:20260428T190000
DTEND;TZID=Europe/London:20260428T213000
DTSTAMP:20260423T151125
CREATED:20260306T123855Z
LAST-MODIFIED:20260306T123900Z
UID:6165-1777402800-1777411800@wightonvillagehall.co.uk
SUMMARY:village games night
DESCRIPTION:Carpet bowls \n\n\n\n£3 per player
URL:https://wightonvillagehall.co.uk/event/village-games-night-13/
END:VEVENT
BEGIN:VEVENT
DTSTART;TZID=Europe/London:20260429T093000
DTEND;TZID=Europe/London:20260429T103000
DTSTAMP:20260423T151125
CREATED:20260328T113136Z
LAST-MODIFIED:20260328T113139Z
UID:6300-1777455000-1777458600@wightonvillagehall.co.uk
SUMMARY:paracise class
DESCRIPTION:book via www.emersonfitness.com
URL:https://wightonvillagehall.co.uk/event/paracise-class-4/
END:VEVENT
BEGIN:VEVENT
DTSTART;TZID=Europe/London:20260429T110000
DTEND;TZID=Europe/London:20260429T140000
DTSTAMP:20260423T151125
CREATED:20260306T125612Z
LAST-MODIFIED:20260306T125617Z
UID:6174-1777460400-1777471200@wightonvillagehall.co.uk
SUMMARY:community cafe lunch
DESCRIPTION:coffee/tea and cakes from 11:30\, hot lunches from 12 noon \n\n\n\nplease book via Sharon on 07827603415
URL:https://wightonvillagehall.co.uk/event/community-cafe-lunch-6/
END:VEVENT
BEGIN:VEVENT
DTSTART;TZID=Europe/London:20260430T134500
DTEND;TZID=Europe/London:20260430T144500
DTSTAMP:20260423T151125
CREATED:20260328T114054Z
LAST-MODIFIED:20260328T114057Z
UID:6308-1777556700-1777560300@wightonvillagehall.co.uk
SUMMARY:tai chi class
DESCRIPTION:book via www.emersonfitness.com
URL:https://wightonvillagehall.co.uk/event/tai-chi-class-9/
END:VEVENT
BEGIN:VEVENT
DTSTART;TZID=Europe/London:20260430T160000
DTEND;TZID=Europe/London:20260430T180000
DTSTAMP:20260423T151125
CREATED:20260306T122214Z
LAST-MODIFIED:20260306T122219Z
UID:6148-1777564800-1777572000@wightonvillagehall.co.uk
SUMMARY:Pickleball
DESCRIPTION:£3 per player
URL:https://wightonvillagehall.co.uk/event/pickleball-23/
END:VEVENT
BEGIN:VEVENT
DTSTART;TZID=Europe/London:20260502T100000
DTEND;TZID=Europe/London:20260502T120000
DTSTAMP:20260423T151125
CREATED:20260416T092124Z
LAST-MODIFIED:20260416T092127Z
UID:6444-1777716000-1777723200@wightonvillagehall.co.uk
SUMMARY:Pickleball
DESCRIPTION:
URL:https://wightonvillagehall.co.uk/event/pickleball-15/
END:VEVENT
BEGIN:VEVENT
DTSTART;TZID=Europe/London:20260505T100000
DTEND;TZID=Europe/London:20260505T110000
DTSTAMP:20260423T151125
CREATED:20260416T084407Z
LAST-MODIFIED:20260416T084410Z
UID:6410-1777975200-1777978800@wightonvillagehall.co.uk
SUMMARY:Fitness pilates
DESCRIPTION:Book via www.plattenfitness.com
URL:https://wightonvillagehall.co.uk/event/fitness-pilates-2/
END:VEVENT
BEGIN:VEVENT
DTSTART;TZID=Europe/London:20260505T160000
DTEND;TZID=Europe/London:20260505T180000
DTSTAMP:20260423T151125
CREATED:20260416T090812Z
LAST-MODIFIED:20260416T092608Z
UID:6430-1777996800-1778004000@wightonvillagehall.co.uk
SUMMARY:Pickleball
DESCRIPTION:
URL:https://wightonvillagehall.co.uk/event/pickleball/
END:VEVENT
BEGIN:VEVENT
DTSTART;TZID=Europe/London:20260505T190000
DTEND;TZID=Europe/London:20260505T213000
DTSTAMP:20260423T151125
CREATED:20260416T090152Z
LAST-MODIFIED:20260416T090154Z
UID:6422-1778007600-1778016600@wightonvillagehall.co.uk
SUMMARY:village games night
DESCRIPTION:Carpet bowls
URL:https://wightonvillagehall.co.uk/event/village-games-night-2/
END:VEVENT
BEGIN:VEVENT
DTSTART;TZID=Europe/London:20260506T093000
DTEND;TZID=Europe/London:20260506T103000
DTSTAMP:20260423T151125
CREATED:20260421T175825Z
LAST-MODIFIED:20260421T175828Z
UID:6489-1778059800-1778063400@wightonvillagehall.co.uk
SUMMARY:paracise class
DESCRIPTION:book vía www.emersonfitness.com
URL:https://wightonvillagehall.co.uk/event/paracise-class-5/
END:VEVENT
BEGIN:VEVENT
DTSTART;TZID=Europe/London:20260507T063000
DTEND;TZID=Europe/London:20260507T223000
DTSTAMP:20260423T151125
CREATED:20251218T130959Z
LAST-MODIFIED:20251218T131003Z
UID:5505-1778135400-1778193000@wightonvillagehall.co.uk
SUMMARY:County Council Elections
DESCRIPTION:All building in use for elections
URL:https://wightonvillagehall.co.uk/event/county-council-elections/
END:VEVENT
BEGIN:VEVENT
DTSTART;TZID=Europe/London:20260509T100000
DTEND;TZID=Europe/London:20260509T120000
DTSTAMP:20260423T151125
CREATED:20260416T092236Z
LAST-MODIFIED:20260416T092238Z
UID:6446-1778320800-1778328000@wightonvillagehall.co.uk
SUMMARY:Pickleball
DESCRIPTION:
URL:https://wightonvillagehall.co.uk/event/pickleball-16/
END:VEVENT
BEGIN:VEVENT
DTSTART;TZID=Europe/London:20260509T150000
DTEND;TZID=Europe/London:20260509T190000
DTSTAMP:20260423T151125
CREATED:20260322T220426Z
LAST-MODIFIED:20260322T220429Z
UID:6272-1778338800-1778353200@wightonvillagehall.co.uk
SUMMARY:private hire (Piggott)
DESCRIPTION:main hall
URL:https://wightonvillagehall.co.uk/event/private-hire-piggott-2/
END:VEVENT
BEGIN:VEVENT
DTSTART;TZID=Europe/London:20260510T080000
DTEND;TZID=Europe/London:20260510T170000
DTSTAMP:20260423T151125
CREATED:20251017T185934Z
LAST-MODIFIED:20251017T185936Z
UID:4926-1778400000-1778432400@wightonvillagehall.co.uk
SUMMARY:tractor day
DESCRIPTION:
URL:https://wightonvillagehall.co.uk/event/tractor-day/
END:VEVENT
BEGIN:VEVENT
DTSTART;TZID=Europe/London:20260511T100000
DTEND;TZID=Europe/London:20260511T110000
DTSTAMP:20260423T151125
CREATED:20260416T083834Z
LAST-MODIFIED:20260416T083837Z
UID:6406-1778493600-1778497200@wightonvillagehall.co.uk
SUMMARY:Yoga Class
DESCRIPTION:Book via www.wildlynurtured.com
URL:https://wightonvillagehall.co.uk/event/yoga-class-2/
END:VEVENT
BEGIN:VEVENT
DTSTART;TZID=Europe/London:20260512T100000
DTEND;TZID=Europe/London:20260512T110000
DTSTAMP:20260423T151125
CREATED:20260416T084536Z
LAST-MODIFIED:20260416T084539Z
UID:6412-1778580000-1778583600@wightonvillagehall.co.uk
SUMMARY:Fitness Pilates
DESCRIPTION:Book via www.plattenfitness.com
URL:https://wightonvillagehall.co.uk/event/fitness-pilates-3/
END:VEVENT
BEGIN:VEVENT
DTSTART;TZID=Europe/London:20260512T160000
DTEND;TZID=Europe/London:20260512T180000
DTSTAMP:20260423T151125
CREATED:20260416T090927Z
LAST-MODIFIED:20260416T092658Z
UID:6432-1778601600-1778608800@wightonvillagehall.co.uk
SUMMARY:Pickleball
DESCRIPTION:
URL:https://wightonvillagehall.co.uk/event/pickleball-3/
END:VEVENT
BEGIN:VEVENT
DTSTART;TZID=Europe/London:20260512T190000
DTEND;TZID=Europe/London:20260512T213000
DTSTAMP:20260423T151125
CREATED:20260416T090311Z
LAST-MODIFIED:20260416T090314Z
UID:6424-1778612400-1778621400@wightonvillagehall.co.uk
SUMMARY:village games night
DESCRIPTION:Carpet bowls
URL:https://wightonvillagehall.co.uk/event/village-games-night-5/
END:VEVENT
BEGIN:VEVENT
DTSTART;TZID=Europe/London:20260513T093000
DTEND;TZID=Europe/London:20260513T103000
DTSTAMP:20260423T151125
CREATED:20260421T180040Z
LAST-MODIFIED:20260421T180043Z
UID:6491-1778664600-1778668200@wightonvillagehall.co.uk
SUMMARY:paracise class
DESCRIPTION:book vía www.emersonfitness.com
URL:https://wightonvillagehall.co.uk/event/paracise-class-6/
END:VEVENT
BEGIN:VEVENT
DTSTART;TZID=Europe/London:20260513T100000
DTEND;TZID=Europe/London:20260513T160000
DTSTAMP:20260423T151125
CREATED:20260303T073530Z
LAST-MODIFIED:20260303T073534Z
UID:6117-1778666400-1778688000@wightonvillagehall.co.uk
SUMMARY:local energy training meeting
DESCRIPTION:meeting room
URL:https://wightonvillagehall.co.uk/event/local-energy-training-meeting/
END:VEVENT
BEGIN:VEVENT
DTSTART;TZID=Europe/London:20260513T110000
DTEND;TZID=Europe/London:20260513T140000
DTSTAMP:20260423T151125
CREATED:20260416T085448Z
LAST-MODIFIED:20260416T085451Z
UID:6418-1778670000-1778680800@wightonvillagehall.co.uk
SUMMARY:Community Cafe lunch
DESCRIPTION:Coo \n\n\n\nCoffee/cakes from 11:30\, hot lunches from noon \n\n\n\nPlease book via Sharon on 07827 603415
URL:https://wightonvillagehall.co.uk/event/community-cafe-lunch/
END:VEVENT
BEGIN:VEVENT
DTSTART;TZID=Europe/London:20260514T100000
DTEND;TZID=Europe/London:20260514T160000
DTSTAMP:20260423T151125
CREATED:20260303T073723Z
LAST-MODIFIED:20260303T073727Z
UID:6119-1778752800-1778774400@wightonvillagehall.co.uk
SUMMARY:local energy group training
DESCRIPTION:Meeting Room
URL:https://wightonvillagehall.co.uk/event/local-energy-group-training/
END:VEVENT
BEGIN:VEVENT
DTSTART;TZID=Europe/London:20260514T134500
DTEND;TZID=Europe/London:20260514T144500
DTSTAMP:20260423T151125
CREATED:20260421T180626Z
LAST-MODIFIED:20260421T180629Z
UID:6495-1778766300-1778769900@wightonvillagehall.co.uk
SUMMARY:tai chi class
DESCRIPTION:book vía emersonfitness.com
URL:https://wightonvillagehall.co.uk/event/tai-chi-class-5/
END:VEVENT
END:VCALENDAR