BEGIN:VCALENDAR
VERSION:2.0
PRODID:-//Wighton Village Hall - ECPv6.15.20//NONSGML v1.0//EN
CALSCALE:GREGORIAN
METHOD:PUBLISH
X-WR-CALNAME:Wighton Village Hall
X-ORIGINAL-URL:https://wightonvillagehall.co.uk
X-WR-CALDESC:Events for Wighton Village Hall
REFRESH-INTERVAL;VALUE=DURATION:PT1H
X-Robots-Tag:noindex
X-PUBLISHED-TTL:PT1H
BEGIN:VTIMEZONE
TZID:Europe/London
BEGIN:DAYLIGHT
TZOFFSETFROM:+0000
TZOFFSETTO:+0100
TZNAME:BST
DTSTART:20250330T010000
END:DAYLIGHT
BEGIN:STANDARD
TZOFFSETFROM:+0100
TZOFFSETTO:+0000
TZNAME:GMT
DTSTART:20251026T010000
END:STANDARD
BEGIN:DAYLIGHT
TZOFFSETFROM:+0000
TZOFFSETTO:+0100
TZNAME:BST
DTSTART:20260329T010000
END:DAYLIGHT
BEGIN:STANDARD
TZOFFSETFROM:+0100
TZOFFSETTO:+0000
TZNAME:GMT
DTSTART:20261025T010000
END:STANDARD
BEGIN:DAYLIGHT
TZOFFSETFROM:+0000
TZOFFSETTO:+0100
TZNAME:BST
DTSTART:20270328T010000
END:DAYLIGHT
BEGIN:STANDARD
TZOFFSETFROM:+0100
TZOFFSETTO:+0000
TZNAME:GMT
DTSTART:20271031T010000
END:STANDARD
END:VTIMEZONE
BEGIN:VEVENT
DTSTART;TZID=Europe/London:20260502T100000
DTEND;TZID=Europe/London:20260502T120000
DTSTAMP:20260423T231832
CREATED:20260416T092124Z
LAST-MODIFIED:20260416T092127Z
UID:6444-1777716000-1777723200@wightonvillagehall.co.uk
SUMMARY:Pickleball
DESCRIPTION:
URL:https://wightonvillagehall.co.uk/event/pickleball-15/
END:VEVENT
BEGIN:VEVENT
DTSTART;TZID=Europe/London:20260430T160000
DTEND;TZID=Europe/London:20260430T180000
DTSTAMP:20260423T231832
CREATED:20260306T122214Z
LAST-MODIFIED:20260306T122219Z
UID:6148-1777564800-1777572000@wightonvillagehall.co.uk
SUMMARY:Pickleball
DESCRIPTION:£3 per player
URL:https://wightonvillagehall.co.uk/event/pickleball-23/
END:VEVENT
BEGIN:VEVENT
DTSTART;TZID=Europe/London:20260430T134500
DTEND;TZID=Europe/London:20260430T144500
DTSTAMP:20260423T231832
CREATED:20260328T114054Z
LAST-MODIFIED:20260328T114057Z
UID:6308-1777556700-1777560300@wightonvillagehall.co.uk
SUMMARY:tai chi class
DESCRIPTION:book via www.emersonfitness.com
URL:https://wightonvillagehall.co.uk/event/tai-chi-class-9/
END:VEVENT
BEGIN:VEVENT
DTSTART;TZID=Europe/London:20260429T110000
DTEND;TZID=Europe/London:20260429T140000
DTSTAMP:20260423T231832
CREATED:20260306T125612Z
LAST-MODIFIED:20260306T125617Z
UID:6174-1777460400-1777471200@wightonvillagehall.co.uk
SUMMARY:community cafe lunch
DESCRIPTION:coffee/tea and cakes from 11:30\, hot lunches from 12 noon \n\n\n\nplease book via Sharon on 07827603415
URL:https://wightonvillagehall.co.uk/event/community-cafe-lunch-6/
END:VEVENT
BEGIN:VEVENT
DTSTART;TZID=Europe/London:20260429T093000
DTEND;TZID=Europe/London:20260429T103000
DTSTAMP:20260423T231832
CREATED:20260328T113136Z
LAST-MODIFIED:20260328T113139Z
UID:6300-1777455000-1777458600@wightonvillagehall.co.uk
SUMMARY:paracise class
DESCRIPTION:book via www.emersonfitness.com
URL:https://wightonvillagehall.co.uk/event/paracise-class-4/
END:VEVENT
BEGIN:VEVENT
DTSTART;TZID=Europe/London:20260428T190000
DTEND;TZID=Europe/London:20260428T213000
DTSTAMP:20260423T231832
CREATED:20260306T123855Z
LAST-MODIFIED:20260306T123900Z
UID:6165-1777402800-1777411800@wightonvillagehall.co.uk
SUMMARY:village games night
DESCRIPTION:Carpet bowls \n\n\n\n£3 per player
URL:https://wightonvillagehall.co.uk/event/village-games-night-13/
END:VEVENT
BEGIN:VEVENT
DTSTART;TZID=Europe/London:20260428T160000
DTEND;TZID=Europe/London:20260428T180000
DTSTAMP:20260423T231832
CREATED:20260306T123028Z
LAST-MODIFIED:20260306T123033Z
UID:6157-1777392000-1777399200@wightonvillagehall.co.uk
SUMMARY:pickleball
DESCRIPTION:£3 per player
URL:https://wightonvillagehall.co.uk/event/pickleball-32/
END:VEVENT
BEGIN:VEVENT
DTSTART;TZID=Europe/London:20260428T100000
DTEND;TZID=Europe/London:20260428T110000
DTSTAMP:20260423T231832
CREATED:20260306T174724Z
LAST-MODIFIED:20260306T174730Z
UID:6188-1777370400-1777374000@wightonvillagehall.co.uk
SUMMARY:Fitness pilates
DESCRIPTION:Book via www.plattenfitness.com
URL:https://wightonvillagehall.co.uk/event/fitness-pilates-9/
END:VEVENT
BEGIN:VEVENT
DTSTART;TZID=Europe/London:20260427T173000
DTEND;TZID=Europe/London:20260427T193000
DTSTAMP:20260423T231832
CREATED:20260422T160359Z
LAST-MODIFIED:20260422T160403Z
UID:6510-1777311000-1777318200@wightonvillagehall.co.uk
SUMMARY:private hire (Hiner)
DESCRIPTION:
URL:https://wightonvillagehall.co.uk/event/private-hire-hiner/
END:VEVENT
BEGIN:VEVENT
DTSTART;TZID=Europe/London:20260427T100000
DTEND;TZID=Europe/London:20260427T110000
DTSTAMP:20260423T231832
CREATED:20260306T173912Z
LAST-MODIFIED:20260306T174016Z
UID:6181-1777284000-1777287600@wightonvillagehall.co.uk
SUMMARY:Yoga Class
DESCRIPTION:Book via www.wildlynurtured.com
URL:https://wightonvillagehall.co.uk/event/yoga-class-4/
END:VEVENT
BEGIN:VEVENT
DTSTART;TZID=Europe/London:20260425T143000
DTEND;TZID=Europe/London:20260425T230000
DTSTAMP:20260423T231832
CREATED:20260422T160221Z
LAST-MODIFIED:20260422T160224Z
UID:6508-1777127400-1777158000@wightonvillagehall.co.uk
SUMMARY:private hire (Jaison)
DESCRIPTION:hall and kitchen
URL:https://wightonvillagehall.co.uk/event/private-hire-jaison/
END:VEVENT
BEGIN:VEVENT
DTSTART;TZID=Europe/London:20260425T100000
DTEND;TZID=Europe/London:20260425T120000
DTSTAMP:20260423T231832
CREATED:20260306T121441Z
LAST-MODIFIED:20260306T121448Z
UID:6138-1777111200-1777118400@wightonvillagehall.co.uk
SUMMARY:Pickleball
DESCRIPTION:£3 per player
URL:https://wightonvillagehall.co.uk/event/pickleball-10/
END:VEVENT
BEGIN:VEVENT
DTSTART;TZID=Europe/London:20260423T160000
DTEND;TZID=Europe/London:20260423T180000
DTSTAMP:20260423T231832
CREATED:20260306T122045Z
LAST-MODIFIED:20260306T122050Z
UID:6146-1776960000-1776967200@wightonvillagehall.co.uk
SUMMARY:pickleball
DESCRIPTION:£3 per player
URL:https://wightonvillagehall.co.uk/event/pickleball-19/
END:VEVENT
BEGIN:VEVENT
DTSTART;TZID=Europe/London:20260423T134500
DTEND;TZID=Europe/London:20260423T144500
DTSTAMP:20260423T231832
CREATED:20260328T113917Z
LAST-MODIFIED:20260328T113920Z
UID:6306-1776951900-1776955500@wightonvillagehall.co.uk
SUMMARY:tai chi class
DESCRIPTION:book via www.emersonfitness.com
URL:https://wightonvillagehall.co.uk/event/tai-chi-class-4/
END:VEVENT
BEGIN:VEVENT
DTSTART;TZID=Europe/London:20260422T093000
DTEND;TZID=Europe/London:20260422T103000
DTSTAMP:20260423T231832
CREATED:20260328T112912Z
LAST-MODIFIED:20260328T112915Z
UID:6298-1776850200-1776853800@wightonvillagehall.co.uk
SUMMARY:paracise class
DESCRIPTION:book via www.emersonfitness.com
URL:https://wightonvillagehall.co.uk/event/paracise-class-3/
END:VEVENT
BEGIN:VEVENT
DTSTART;TZID=Europe/London:20260421T190000
DTEND;TZID=Europe/London:20260421T213000
DTSTAMP:20260423T231832
CREATED:20260306T123711Z
LAST-MODIFIED:20260306T123718Z
UID:6163-1776798000-1776807000@wightonvillagehall.co.uk
SUMMARY:village games night
DESCRIPTION:Carpet bowls \n\n\n\n£3 per player
URL:https://wightonvillagehall.co.uk/event/village-games-night-8/
END:VEVENT
BEGIN:VEVENT
DTSTART;TZID=Europe/London:20260421T160000
DTEND;TZID=Europe/London:20260421T180000
DTSTAMP:20260423T231832
CREATED:20260306T122856Z
LAST-MODIFIED:20260306T122901Z
UID:6155-1776787200-1776794400@wightonvillagehall.co.uk
SUMMARY:pickleball
DESCRIPTION:£3 per player
URL:https://wightonvillagehall.co.uk/event/pickleball-25/
END:VEVENT
BEGIN:VEVENT
DTSTART;TZID=Europe/London:20260421T100000
DTEND;TZID=Europe/London:20260421T110000
DTSTAMP:20260423T231832
CREATED:20260306T174523Z
LAST-MODIFIED:20260306T174529Z
UID:6186-1776765600-1776769200@wightonvillagehall.co.uk
SUMMARY:Fitness Pilates
DESCRIPTION:Book via www.plattenfitness.com
URL:https://wightonvillagehall.co.uk/event/fitness-pilates-4/
END:VEVENT
BEGIN:VEVENT
DTSTART;TZID=Europe/London:20260420T100000
DTEND;TZID=Europe/London:20260420T110000
DTSTAMP:20260423T231832
CREATED:20260306T173746Z
LAST-MODIFIED:20260306T174143Z
UID:6179-1776679200-1776682800@wightonvillagehall.co.uk
SUMMARY:Yoga Class
DESCRIPTION:Book via www.wildlynurtured.com
URL:https://wightonvillagehall.co.uk/event/yoga-class/
END:VEVENT
BEGIN:VEVENT
DTSTART;TZID=Europe/London:20260418T100000
DTEND;TZID=Europe/London:20260418T120000
DTSTAMP:20260423T231832
CREATED:20260306T121312Z
LAST-MODIFIED:20260306T121316Z
UID:6136-1776506400-1776513600@wightonvillagehall.co.uk
SUMMARY:Pickleball
DESCRIPTION:£3 per player
URL:https://wightonvillagehall.co.uk/event/pickleball-9/
END:VEVENT
BEGIN:VEVENT
DTSTART;TZID=Europe/London:20260416T183000
DTEND;TZID=Europe/London:20260416T220000
DTSTAMP:20260423T231832
CREATED:20260116T133655Z
LAST-MODIFIED:20260306T124606Z
UID:5790-1776364200-1776376800@wightonvillagehall.co.uk
SUMMARY:private hire (Fish and chip quiz)
DESCRIPTION:Quiz starts at 19:00 details from Roger Taylor on 07803 302621 \n\n\n\n\n\n\n\n\n\n\n\n\n\nFakenham-Olivet twining quiz night
URL:https://wightonvillagehall.co.uk/event/private-hire-taylor-quiz/
END:VEVENT
BEGIN:VEVENT
DTSTART;TZID=Europe/London:20260416T160000
DTEND;TZID=Europe/London:20260416T180000
DTSTAMP:20260423T231832
CREATED:20260306T121932Z
LAST-MODIFIED:20260306T121938Z
UID:6144-1776355200-1776362400@wightonvillagehall.co.uk
SUMMARY:Pickleball
DESCRIPTION:£3 per player
URL:https://wightonvillagehall.co.uk/event/pickleball-17/
END:VEVENT
BEGIN:VEVENT
DTSTART;TZID=Europe/London:20260416T134500
DTEND;TZID=Europe/London:20260416T144500
DTSTAMP:20260423T231832
CREATED:20260328T113726Z
LAST-MODIFIED:20260328T113729Z
UID:6304-1776347100-1776350700@wightonvillagehall.co.uk
SUMMARY:tai chi class
DESCRIPTION:book via www.emersonfitness.com
URL:https://wightonvillagehall.co.uk/event/tai-chi-class-3/
END:VEVENT
BEGIN:VEVENT
DTSTART;TZID=Europe/London:20260416T100000
DTEND;TZID=Europe/London:20260416T120000
DTSTAMP:20260423T231832
CREATED:20260416T092407Z
LAST-MODIFIED:20260416T092410Z
UID:6448-1776333600-1776340800@wightonvillagehall.co.uk
SUMMARY:Pickleball
DESCRIPTION:
URL:https://wightonvillagehall.co.uk/event/pickleball-18/
END:VEVENT
BEGIN:VEVENT
DTSTART;TZID=Europe/London:20260415T110000
DTEND;TZID=Europe/London:20260415T140000
DTSTAMP:20260423T231832
CREATED:20260306T125342Z
LAST-MODIFIED:20260306T125349Z
UID:6172-1776250800-1776261600@wightonvillagehall.co.uk
SUMMARY:community cafe lunch
DESCRIPTION:coffee/tea and cakes from 11:30\, hot lunches from 12 noon \n\n\n\nPlease book in via Sharon on 07827603415
URL:https://wightonvillagehall.co.uk/event/community-cafe-lunch-4/
END:VEVENT
BEGIN:VEVENT
DTSTART;TZID=Europe/London:20260415T093000
DTEND;TZID=Europe/London:20260415T103000
DTSTAMP:20260423T231832
CREATED:20260328T112739Z
LAST-MODIFIED:20260328T112742Z
UID:6296-1776245400-1776249000@wightonvillagehall.co.uk
SUMMARY:paracise class
DESCRIPTION:book via www.emersonfitness.com
URL:https://wightonvillagehall.co.uk/event/paracise-class-2/
END:VEVENT
BEGIN:VEVENT
DTSTART;TZID=Europe/London:20260414T190000
DTEND;TZID=Europe/London:20260414T213000
DTSTAMP:20260423T231832
CREATED:20260306T123533Z
LAST-MODIFIED:20260306T123539Z
UID:6161-1776193200-1776202200@wightonvillagehall.co.uk
SUMMARY:Village games night
DESCRIPTION:Carpet bowls  \n\n\n\n£3 per player
URL:https://wightonvillagehall.co.uk/event/village-games-night-4/
END:VEVENT
BEGIN:VEVENT
DTSTART;TZID=Europe/London:20260414T160000
DTEND;TZID=Europe/London:20260414T180000
DTSTAMP:20260423T231832
CREATED:20260306T122639Z
LAST-MODIFIED:20260306T122644Z
UID:6153-1776182400-1776189600@wightonvillagehall.co.uk
SUMMARY:pickleball
DESCRIPTION:£3 per player
URL:https://wightonvillagehall.co.uk/event/pickleball-24/
END:VEVENT
BEGIN:VEVENT
DTSTART;TZID=Europe/London:20260413T100000
DTEND;TZID=Europe/London:20260413T110000
DTSTAMP:20260423T231832
CREATED:20260309T164024Z
LAST-MODIFIED:20260309T164031Z
UID:6203-1776074400-1776078000@wightonvillagehall.co.uk
SUMMARY:yoga class
DESCRIPTION:Book via www.plattenfitness.com
URL:https://wightonvillagehall.co.uk/event/yoga-class-9/
END:VEVENT
BEGIN:VEVENT
DTSTART;TZID=Europe/London:20260411T100000
DTEND;TZID=Europe/London:20260411T120000
DTSTAMP:20260423T231832
CREATED:20260306T121148Z
LAST-MODIFIED:20260306T121153Z
UID:6134-1775901600-1775908800@wightonvillagehall.co.uk
SUMMARY:Pickleball
DESCRIPTION:£3 per player
URL:https://wightonvillagehall.co.uk/event/pickleball-6/
END:VEVENT
END:VCALENDAR